Package: GlobalAncova Version: 4.27.0 Command: /Library/Frameworks/R.framework/Resources/bin/R CMD build --keep-empty-dirs --no-resave-data GlobalAncova StartedAt: 2025-07-07 16:25:54 -0400 (Mon, 07 Jul 2025) EndedAt: 2025-07-07 16:28:47 -0400 (Mon, 07 Jul 2025) EllapsedTime: 173.8 seconds RetCode: 0 Status: OK PackageFile: GlobalAncova_4.27.0.tar.gz PackageFileSize: 1.208 MiB