Package: GloScope Version: 1.7.0 Command: /home/biocbuild/R/R/bin/R CMD INSTALL GloScope StartedAt: 2025-07-14 20:34:25 -0000 (Mon, 14 Jul 2025) EndedAt: 2025-07-14 20:34:57 -0000 (Mon, 14 Jul 2025) EllapsedTime: 31.8 seconds RetCode: 0 Status: OK