Package: GloScope Version: 1.7.0 Command: /home/biocbuild/R/R/bin/R CMD build --keep-empty-dirs --no-resave-data GloScope StartedAt: 2025-07-14 23:57:40 -0000 (Mon, 14 Jul 2025) EndedAt: 2025-07-14 23:58:49 -0000 (Mon, 14 Jul 2025) EllapsedTime: 69.0 seconds RetCode: 0 Status: OK PackageFile: GloScope_1.7.0.tar.gz PackageFileSize: 2.59 MiB