Package: GloScope Version: 1.7.0 Command: /Library/Frameworks/R.framework/Resources/bin/R CMD INSTALL GloScope StartedAt: 2025-07-11 15:12:27 -0400 (Fri, 11 Jul 2025) EndedAt: 2025-07-11 15:12:37 -0400 (Fri, 11 Jul 2025) EllapsedTime: 10.1 seconds RetCode: 0 Status: OK