Package: GloScope Version: 1.7.0 Command: /Library/Frameworks/R.framework/Resources/bin/R CMD check --install=check:GloScope.install-out.txt --library=/Library/Frameworks/R.framework/Resources/library --no-vignettes --timings GloScope_1.7.0.tar.gz StartedAt: 2025-07-11 19:30:25 -0400 (Fri, 11 Jul 2025) EndedAt: 2025-07-11 19:34:10 -0400 (Fri, 11 Jul 2025) EllapsedTime: 225.6 seconds RetCode: 0 Status: OK CheckDir: GloScope.Rcheck Warnings: 0