Package: Glimma Version: 2.19.2 Command: F:\biocbuild\bbs-3.22-bioc\R\bin\R.exe CMD check --no-multiarch --install=check:Glimma.install-out.txt --library=F:\biocbuild\bbs-3.22-bioc\R\library --no-vignettes --timings Glimma_2.19.2.tar.gz StartedAt: 2025-07-19 02:44:41 -0400 (Sat, 19 Jul 2025) EndedAt: 2025-07-19 02:52:14 -0400 (Sat, 19 Jul 2025) EllapsedTime: 453.1 seconds RetCode: 0 Status: OK CheckDir: Glimma.Rcheck Warnings: 0