Package: Glimma Version: 2.19.2 Command: chmod a+r Glimma -R && F:\biocbuild\bbs-3.22-bioc\R\bin\R.exe CMD build --keep-empty-dirs --no-resave-data Glimma StartedAt: 2025-07-18 19:26:05 -0400 (Fri, 18 Jul 2025) EndedAt: 2025-07-18 19:37:56 -0400 (Fri, 18 Jul 2025) EllapsedTime: 711.3 seconds RetCode: 0 Status: OK PackageFile: Glimma_2.19.2.tar.gz PackageFileSize: 11.12 MiB