Package: Glimma Version: 2.19.2 Command: rm -rf Glimma.buildbin-libdir && mkdir Glimma.buildbin-libdir && F:\biocbuild\bbs-3.22-bioc\R\bin\R.exe CMD INSTALL --build --library=Glimma.buildbin-libdir Glimma_2.19.2.tar.gz StartedAt: 2025-07-19 09:14:33 -0400 (Sat, 19 Jul 2025) EndedAt: 2025-07-19 09:16:08 -0400 (Sat, 19 Jul 2025) EllapsedTime: 95.7 seconds RetCode: 0 Status: OK PackageFile: Glimma_2.19.2.zip PackageFileSize: 8.838 MiB