Package: Glimma Version: 2.19.2 Command: /home/biocbuild/bbs-3.22-bioc/R/bin/R CMD INSTALL Glimma StartedAt: 2025-07-18 15:19:34 -0400 (Fri, 18 Jul 2025) EndedAt: 2025-07-18 15:20:00 -0400 (Fri, 18 Jul 2025) EllapsedTime: 26.5 seconds RetCode: 0 Status: OK