Package: Glimma Version: 2.19.2 Command: /home/biocbuild/bbs-3.22-bioc/R/bin/R CMD build --keep-empty-dirs --no-resave-data --md5 Glimma StartedAt: 2025-07-18 17:24:05 -0400 (Fri, 18 Jul 2025) EndedAt: 2025-07-18 17:31:19 -0400 (Fri, 18 Jul 2025) EllapsedTime: 433.4 seconds RetCode: 0 Status: OK PackageFile: Glimma_2.19.2.tar.gz PackageFileSize: 11.12 MiB