Package: Glimma Version: 2.19.2 Command: /Library/Frameworks/R.framework/Resources/bin/R CMD build --keep-empty-dirs --no-resave-data Glimma StartedAt: 2025-07-18 16:57:40 -0400 (Fri, 18 Jul 2025) EndedAt: 2025-07-18 17:06:02 -0400 (Fri, 18 Jul 2025) EllapsedTime: 501.9 seconds RetCode: 0 Status: OK PackageFile: Glimma_2.19.2.tar.gz PackageFileSize: 11.12 MiB