Package: Glimma Version: 2.19.2 Command: rm -rf Glimma.buildbin-libdir && mkdir Glimma.buildbin-libdir && /Users/biocbuild/BBS/utils/build-universal.sh Glimma_2.19.2.tar.gz /Library/Frameworks/R.framework/Resources/bin/R Glimma.buildbin-libdir StartedAt: 2025-07-19 00:51:37 -0400 (Sat, 19 Jul 2025) EndedAt: 2025-07-19 00:52:22 -0400 (Sat, 19 Jul 2025) EllapsedTime: 45.2 seconds RetCode: 0 Status: OK PackageFile: Glimma_2.19.2.tgz PackageFileSize: 8.767 MiB