Package: Glimma Version: 2.19.2 Command: /Library/Frameworks/R.framework/Resources/bin/R CMD INSTALL Glimma StartedAt: 2025-07-18 15:13:08 -0400 (Fri, 18 Jul 2025) EndedAt: 2025-07-18 15:13:19 -0400 (Fri, 18 Jul 2025) EllapsedTime: 10.8 seconds RetCode: 0 Status: OK