Package: Glimma Version: 2.19.2 Maintainer: Shian Su MaintainerEmail: su.s at wehi.edu.au git_url: https://git.bioconductor.org/packages/Glimma git_branch: devel git_last_commit: ffb4760 git_last_commit_date: 2025-06-10 21:10:13 -0400 (Tue, 10 Jun 2025)