Package: GeomxTools Version: 3.13.0 Command: F:\biocbuild\bbs-3.22-bioc\R\bin\R.exe CMD check --no-multiarch --install=check:GeomxTools.install-out.txt --library=F:\biocbuild\bbs-3.22-bioc\R\library --no-vignettes --timings GeomxTools_3.13.0.tar.gz StartedAt: 2025-08-15 03:41:29 -0400 (Fri, 15 Aug 2025) EndedAt: 2025-08-15 04:07:10 -0400 (Fri, 15 Aug 2025) EllapsedTime: 1541.1 seconds RetCode: 1 Status: ERROR CheckDir: GeomxTools.Rcheck Warnings: NA