Package: GeoDiff Version: 1.15.0 Command: /home/biocbuild/R/R/bin/R CMD INSTALL GeoDiff StartedAt: 2025-06-30 20:32:42 -0000 (Mon, 30 Jun 2025) EndedAt: 2025-06-30 20:34:55 -0000 (Mon, 30 Jun 2025) EllapsedTime: 133.2 seconds RetCode: 0 Status: OK