Package: GeoDiff Version: 1.15.0 Command: chmod a+r GeoDiff -R && F:\biocbuild\bbs-3.22-bioc\R\bin\R.exe CMD build --keep-empty-dirs --no-resave-data GeoDiff StartedAt: 2025-06-29 19:18:52 -0400 (Sun, 29 Jun 2025) EndedAt: 2025-06-29 19:24:14 -0400 (Sun, 29 Jun 2025) EllapsedTime: 322.3 seconds RetCode: 0 Status: OK PackageFile: GeoDiff_1.15.0.tar.gz PackageFileSize: 4.344 MiB