Package: GeoDiff Version: 1.15.0 Command: rm -rf GeoDiff.buildbin-libdir && mkdir GeoDiff.buildbin-libdir && F:\biocbuild\bbs-3.22-bioc\R\bin\R.exe CMD INSTALL --build --library=GeoDiff.buildbin-libdir GeoDiff_1.15.0.tar.gz StartedAt: 2025-06-30 08:49:57 -0400 (Mon, 30 Jun 2025) EndedAt: 2025-06-30 08:51:52 -0400 (Mon, 30 Jun 2025) EllapsedTime: 115.5 seconds RetCode: 0 Status: OK PackageFile: GeoDiff_1.15.0.zip PackageFileSize: 4.974 MiB