Package: GeoDiff Version: 1.15.0 Command: /Library/Frameworks/R.framework/Resources/bin/R CMD INSTALL GeoDiff StartedAt: 2025-06-29 15:17:16 -0400 (Sun, 29 Jun 2025) EndedAt: 2025-06-29 15:18:51 -0400 (Sun, 29 Jun 2025) EllapsedTime: 94.8 seconds RetCode: 0 Status: OK