Package: GeoDiff Version: 1.15.0 Command: /Library/Frameworks/R.framework/Resources/bin/R CMD check --install=check:GeoDiff.install-out.txt --library=/Library/Frameworks/R.framework/Resources/library --no-vignettes --timings GeoDiff_1.15.0.tar.gz StartedAt: 2025-06-29 20:44:28 -0400 (Sun, 29 Jun 2025) EndedAt: 2025-06-29 20:49:46 -0400 (Sun, 29 Jun 2025) EllapsedTime: 318.2 seconds RetCode: 0 Status: OK CheckDir: GeoDiff.Rcheck Warnings: 0