Package: GeoDiff Version: 1.15.0 Command: /Library/Frameworks/R.framework/Resources/bin/R CMD build --keep-empty-dirs --no-resave-data GeoDiff StartedAt: 2025-07-15 17:12:00 -0400 (Tue, 15 Jul 2025) EndedAt: 2025-07-15 17:16:06 -0400 (Tue, 15 Jul 2025) EllapsedTime: 246.1 seconds RetCode: 0 Status: OK PackageFile: GeoDiff_1.15.0.tar.gz PackageFileSize: 4.581 MiB