Package: GenomicTuples Version: 1.43.1 Command: /home/biocbuild/R/R/bin/R CMD check --install=check:GenomicTuples.install-out.txt --library=/home/biocbuild/R/R/site-library --no-vignettes --timings GenomicTuples_1.43.1.tar.gz StartedAt: 2025-07-15 07:51:54 -0000 (Tue, 15 Jul 2025) EndedAt: 2025-07-15 07:54:32 -0000 (Tue, 15 Jul 2025) EllapsedTime: 158.1 seconds RetCode: 0 Status: OK CheckDir: GenomicTuples.Rcheck Warnings: 0