Package: GenomicTuples Version: 1.43.0 Command: F:\biocbuild\bbs-3.22-bioc\R\bin\R.exe CMD INSTALL GenomicTuples StartedAt: 2025-06-29 15:40:00 -0400 (Sun, 29 Jun 2025) EndedAt: 2025-06-29 15:41:28 -0400 (Sun, 29 Jun 2025) EllapsedTime: 88.3 seconds RetCode: 0 Status: OK