Package: GenomicTuples Version: 1.43.0 Command: F:\biocbuild\bbs-3.22-bioc\R\bin\R.exe CMD check --no-multiarch --install=check:GenomicTuples.install-out.txt --library=F:\biocbuild\bbs-3.22-bioc\R\library --no-vignettes --timings GenomicTuples_1.43.0.tar.gz StartedAt: 2025-07-01 02:28:26 -0400 (Tue, 01 Jul 2025) EndedAt: 2025-07-01 02:31:11 -0400 (Tue, 01 Jul 2025) EllapsedTime: 165.6 seconds RetCode: 1 Status: ERROR CheckDir: GenomicTuples.Rcheck Warnings: NA