Package: GenomicTuples Version: 1.43.0 Command: chmod a+r GenomicTuples -R && F:\biocbuild\bbs-3.22-bioc\R\bin\R.exe CMD build --keep-empty-dirs --no-resave-data GenomicTuples StartedAt: 2025-06-29 19:18:34 -0400 (Sun, 29 Jun 2025) EndedAt: 2025-06-29 19:19:58 -0400 (Sun, 29 Jun 2025) EllapsedTime: 83.3 seconds RetCode: 0 Status: OK PackageFile: GenomicTuples_1.43.0.tar.gz PackageFileSize: 303.7 KiB