Package: GenomicTuples Version: 1.43.0 Command: rm -rf GenomicTuples.buildbin-libdir && mkdir GenomicTuples.buildbin-libdir && F:\biocbuild\bbs-3.22-bioc\R\bin\R.exe CMD INSTALL --build --library=GenomicTuples.buildbin-libdir GenomicTuples_1.43.0.tar.gz StartedAt: 2025-06-30 08:49:46 -0400 (Mon, 30 Jun 2025) EndedAt: 2025-06-30 08:51:01 -0400 (Mon, 30 Jun 2025) EllapsedTime: 75.3 seconds RetCode: 0 Status: OK PackageFile: GenomicTuples_1.43.0.zip PackageFileSize: 1.199 MiB