Package: GenomicTuples Version: 1.43.0 Command: /home/biocbuild/bbs-3.22-bioc/R/bin/R CMD check --install=check:GenomicTuples.install-out.txt --library=/home/biocbuild/bbs-3.22-bioc/R/site-library --timings GenomicTuples_1.43.0.tar.gz StartedAt: 2025-06-29 22:37:24 -0400 (Sun, 29 Jun 2025) EndedAt: 2025-06-29 22:39:27 -0400 (Sun, 29 Jun 2025) EllapsedTime: 123.1 seconds RetCode: 1 Status: ERROR CheckDir: GenomicTuples.Rcheck Warnings: NA