Package: GenomicTuples Version: 1.43.1 Command: rm -rf GenomicTuples.buildbin-libdir && mkdir GenomicTuples.buildbin-libdir && /Users/biocbuild/BBS/utils/build-universal.sh GenomicTuples_1.43.1.tar.gz /Library/Frameworks/R.framework/Resources/bin/R GenomicTuples.buildbin-libdir StartedAt: 2025-07-11 22:21:22 -0400 (Fri, 11 Jul 2025) EndedAt: 2025-07-11 22:21:34 -0400 (Fri, 11 Jul 2025) EllapsedTime: 11.2 seconds RetCode: 0 Status: OK PackageFile: GenomicTuples_1.43.1.tgz PackageFileSize: 904.5 KiB