Package: GenomicSuperSignature Version: 1.17.0 Command: /home/biocbuild/R/R/bin/R CMD check --install=check:GenomicSuperSignature.install-out.txt --library=/home/biocbuild/R/R/site-library --no-vignettes --timings GenomicSuperSignature_1.17.0.tar.gz StartedAt: 2025-07-18 07:05:05 -0000 (Fri, 18 Jul 2025) EndedAt: 2025-07-18 07:19:07 -0000 (Fri, 18 Jul 2025) EllapsedTime: 842.9 seconds RetCode: 0 Status: WARNINGS CheckDir: GenomicSuperSignature.Rcheck Warnings: 2