Package: GenomicSuperSignature Version: 1.17.0 Command: /home/biocbuild/R/R/bin/R CMD build --keep-empty-dirs --no-resave-data GenomicSuperSignature StartedAt: 2025-07-14 23:50:11 -0000 (Mon, 14 Jul 2025) EndedAt: 2025-07-15 00:06:13 -0000 (Tue, 15 Jul 2025) EllapsedTime: 961.3 seconds RetCode: 0 Status: OK PackageFile: GenomicSuperSignature_1.17.0.tar.gz PackageFileSize: 5.914 MiB