Package: GenomicSuperSignature Version: 1.17.0 Command: /Library/Frameworks/R.framework/Resources/bin/R CMD build --keep-empty-dirs --no-resave-data GenomicSuperSignature StartedAt: 2025-07-11 17:02:13 -0400 (Fri, 11 Jul 2025) EndedAt: 2025-07-11 17:05:14 -0400 (Fri, 11 Jul 2025) EllapsedTime: 180.8 seconds RetCode: 0 Status: OK PackageFile: GenomicSuperSignature_1.17.0.tar.gz PackageFileSize: 6.355 MiB