Package: GenomicSuperSignature Version: 1.17.0 Command: /Library/Frameworks/R.framework/Resources/bin/R CMD INSTALL GenomicSuperSignature StartedAt: 2025-07-14 15:17:33 -0400 (Mon, 14 Jul 2025) EndedAt: 2025-07-14 15:17:45 -0400 (Mon, 14 Jul 2025) EllapsedTime: 12.4 seconds RetCode: 0 Status: OK