Package: GenomicScores Version: 2.21.3 Maintainer: Robert Castelo MaintainerEmail: robert.castelo at upf.edu git_url: https://git.bioconductor.org/packages/GenomicScores git_branch: devel git_last_commit: dd870d9 git_last_commit_date: 2025-07-04 13:23:05 -0400 (Fri, 04 Jul 2025)