Package: GenomicRanges Version: 1.61.1 Command: /Library/Frameworks/R.framework/Resources/bin/R CMD INSTALL GenomicRanges StartedAt: 2025-07-01 15:28:53 -0400 (Tue, 01 Jul 2025) EndedAt: 2025-07-01 15:29:23 -0400 (Tue, 01 Jul 2025) EllapsedTime: 29.8 seconds RetCode: 0 Status: OK