Package: GenomicRanges Version: 1.61.1 Command: /Library/Frameworks/R.framework/Resources/bin/R CMD check --install=check:GenomicRanges.install-out.txt --library=/Library/Frameworks/R.framework/Resources/library --no-vignettes --timings GenomicRanges_1.61.1.tar.gz StartedAt: 2025-07-01 21:00:25 -0400 (Tue, 01 Jul 2025) EndedAt: 2025-07-01 21:04:51 -0400 (Tue, 01 Jul 2025) EllapsedTime: 265.7 seconds RetCode: 0 Status: OK CheckDir: GenomicRanges.Rcheck Warnings: 0