Package: GenomicRanges Version: 1.61.1 Command: /Library/Frameworks/R.framework/Resources/bin/R CMD build --keep-empty-dirs --no-resave-data GenomicRanges StartedAt: 2025-07-01 17:07:02 -0400 (Tue, 01 Jul 2025) EndedAt: 2025-07-01 17:10:41 -0400 (Tue, 01 Jul 2025) EllapsedTime: 218.7 seconds RetCode: 0 Status: OK PackageFile: GenomicRanges_1.61.1.tar.gz PackageFileSize: 1.3 MiB