Package: GenomicRanges Version: 1.61.1 Command: rm -rf GenomicRanges.buildbin-libdir && mkdir GenomicRanges.buildbin-libdir && /Users/biocbuild/BBS/utils/build-universal.sh GenomicRanges_1.61.1.tar.gz /Library/Frameworks/R.framework/Resources/bin/R GenomicRanges.buildbin-libdir StartedAt: 2025-07-02 00:59:01 -0400 (Wed, 02 Jul 2025) EndedAt: 2025-07-02 00:59:36 -0400 (Wed, 02 Jul 2025) EllapsedTime: 34.7 seconds RetCode: 0 Status: OK PackageFile: GenomicRanges_1.61.1.tgz PackageFileSize: 2.289 MiB