Package: GenomicRanges Version: 1.61.1 Command: /Library/Frameworks/R.framework/Resources/bin/R CMD INSTALL GenomicRanges StartedAt: 2025-07-14 15:10:26 -0400 (Mon, 14 Jul 2025) EndedAt: 2025-07-14 15:10:34 -0400 (Mon, 14 Jul 2025) EllapsedTime: 7.5 seconds RetCode: 0 Status: OK