Package: GenomicRanges Version: 1.61.1 Command: /Library/Frameworks/R.framework/Resources/bin/R CMD check --install=check:GenomicRanges.install-out.txt --library=/Library/Frameworks/R.framework/Resources/library --no-vignettes --timings GenomicRanges_1.61.1.tar.gz StartedAt: 2025-07-14 19:25:12 -0400 (Mon, 14 Jul 2025) EndedAt: 2025-07-14 19:26:44 -0400 (Mon, 14 Jul 2025) EllapsedTime: 92.0 seconds RetCode: 0 Status: OK CheckDir: GenomicRanges.Rcheck Warnings: 0