Package: GenomicRanges Version: 1.61.1 Maintainer: Hervé Pagès MaintainerEmail: hpages.on.github at gmail.com git_url: https://git.bioconductor.org/packages/GenomicRanges git_branch: devel git_last_commit: 096060d git_last_commit_date: 2025-06-21 14:59:43 -0400 (Sat, 21 Jun 2025)