Package: GenomicPlot Version: 1.7.2 Command: rm -rf GenomicPlot.buildbin-libdir && mkdir GenomicPlot.buildbin-libdir && F:\biocbuild\bbs-3.22-bioc\R\bin\R.exe CMD INSTALL --build --library=GenomicPlot.buildbin-libdir GenomicPlot_1.7.2.tar.gz StartedAt: 2025-07-25 09:20:34 -0400 (Fri, 25 Jul 2025) EndedAt: 2025-07-25 09:21:48 -0400 (Fri, 25 Jul 2025) EllapsedTime: 74.2 seconds RetCode: 0 Status: OK PackageFile: GenomicPlot_1.7.2.zip PackageFileSize: 1.913 MiB