Package: GenomicPlot Version: 1.7.1 Command: /home/biocbuild/bbs-3.22-bioc/R/bin/R CMD build --keep-empty-dirs --no-resave-data --md5 GenomicPlot StartedAt: 2025-07-15 17:20:15 -0400 (Tue, 15 Jul 2025) EndedAt: 2025-07-15 17:22:41 -0400 (Tue, 15 Jul 2025) EllapsedTime: 146.2 seconds RetCode: 0 Status: OK PackageFile: GenomicPlot_1.7.1.tar.gz PackageFileSize: 3.757 MiB