Package: GenomicPlot Version: 1.7.1 Command: /Library/Frameworks/R.framework/Resources/bin/R CMD INSTALL GenomicPlot StartedAt: 2025-07-01 15:49:29 -0400 (Tue, 01 Jul 2025) EndedAt: 2025-07-01 15:50:35 -0400 (Tue, 01 Jul 2025) EllapsedTime: 66.0 seconds RetCode: 0 Status: OK