Package: GenomicPlot Version: 1.7.1 Command: /Library/Frameworks/R.framework/Resources/bin/R CMD build --keep-empty-dirs --no-resave-data GenomicPlot StartedAt: 2025-07-01 17:06:57 -0400 (Tue, 01 Jul 2025) EndedAt: 2025-07-01 17:09:32 -0400 (Tue, 01 Jul 2025) EllapsedTime: 154.9 seconds RetCode: 0 Status: OK PackageFile: GenomicPlot_1.7.1.tar.gz PackageFileSize: 4.093 MiB