Package: GenomicOZone Version: 1.23.0 Command: /Library/Frameworks/R.framework/Resources/bin/R CMD INSTALL GenomicOZone StartedAt: 2025-07-20 15:48:28 -0400 (Sun, 20 Jul 2025) EndedAt: 2025-07-20 15:49:58 -0400 (Sun, 20 Jul 2025) EllapsedTime: 89.9 seconds RetCode: 0 Status: OK