Package: GenomicOZone Version: 1.23.0 Command: /Library/Frameworks/R.framework/Resources/bin/R CMD build --keep-empty-dirs --no-resave-data GenomicOZone StartedAt: 2025-07-20 17:05:31 -0400 (Sun, 20 Jul 2025) EndedAt: 2025-07-20 17:07:54 -0400 (Sun, 20 Jul 2025) EllapsedTime: 142.1 seconds RetCode: 0 Status: OK PackageFile: GenomicOZone_1.23.0.tar.gz PackageFileSize: 1.275 MiB