Package: GenomicOZone Version: 1.23.0 Command: /Library/Frameworks/R.framework/Resources/bin/R CMD INSTALL GenomicOZone StartedAt: 2025-07-22 15:22:46 -0400 (Tue, 22 Jul 2025) EndedAt: 2025-07-22 15:23:13 -0400 (Tue, 22 Jul 2025) EllapsedTime: 27.1 seconds RetCode: 0 Status: OK