Package: GenomicOZone Version: 1.23.0 Command: /Library/Frameworks/R.framework/Resources/bin/R CMD check --install=check:GenomicOZone.install-out.txt --library=/Library/Frameworks/R.framework/Resources/library --no-vignettes --timings GenomicOZone_1.23.0.tar.gz StartedAt: 2025-07-22 19:28:13 -0400 (Tue, 22 Jul 2025) EndedAt: 2025-07-22 19:30:28 -0400 (Tue, 22 Jul 2025) EllapsedTime: 135.5 seconds RetCode: 0 Status: OK CheckDir: GenomicOZone.Rcheck Warnings: 0