Package: GenomicInteractions Version: 1.43.0 Command: F:\biocbuild\bbs-3.22-bioc\R\bin\R.exe CMD INSTALL GenomicInteractions StartedAt: 2025-07-14 16:59:44 -0400 (Mon, 14 Jul 2025) EndedAt: 2025-07-14 17:03:57 -0400 (Mon, 14 Jul 2025) EllapsedTime: 253.4 seconds RetCode: 0 Status: OK