Package: GenomicInteractions Version: 1.43.0 Command: F:\biocbuild\bbs-3.22-bioc\R\bin\R.exe CMD check --no-multiarch --install=check:GenomicInteractions.install-out.txt --library=F:\biocbuild\bbs-3.22-bioc\R\library --no-vignettes --timings GenomicInteractions_1.43.0.tar.gz StartedAt: 2025-07-18 02:20:25 -0400 (Fri, 18 Jul 2025) EndedAt: 2025-07-18 02:28:17 -0400 (Fri, 18 Jul 2025) EllapsedTime: 471.8 seconds RetCode: 0 Status: OK CheckDir: GenomicInteractions.Rcheck Warnings: 0